BEGIN:VCALENDAR
VERSION:2.0
PRODID:-//Farobag bolsos y complementos - ECPv6.15.20//NONSGML v1.0//EN
CALSCALE:GREGORIAN
METHOD:PUBLISH
X-WR-CALNAME:Farobag bolsos y complementos
X-ORIGINAL-URL:https://farobag.com
X-WR-CALDESC:Eventos para Farobag bolsos y complementos
REFRESH-INTERVAL;VALUE=DURATION:PT1H
X-Robots-Tag:noindex
X-PUBLISHED-TTL:PT1H
BEGIN:VTIMEZONE
TZID:UTC
BEGIN:STANDARD
TZOFFSETFROM:+0000
TZOFFSETTO:+0000
TZNAME:UTC
DTSTART:20230101T000000
END:STANDARD
END:VTIMEZONE
BEGIN:VEVENT
DTSTART;TZID=UTC:20240706T110000
DTEND;TZID=UTC:20240707T200000
DTSTAMP:20260423T144200
CREATED:20240618T174212Z
LAST-MODIFIED:20240618T174635Z
UID:6140-1720263600-1720382400@farobag.com
SUMMARY:Aguere Rooms Summer Edition 2024
DESCRIPTION:Participación de Farobag y Farowear en el Evento “Aguere Rooms Summer Edition”\nEl evento «Aguere Rooms Summer Edition» tendrá lugar los días 6 y 7 de julio de 2024 en el Hotel Aguere\, ubicado en San Cristóbal de La Laguna\, Tenerife. Este evento reúne a diversos artesanos y diseñadores locales para exhibir y vender sus productos en un ambiente festivo y veraniego. Es una excelente oportunidad para descubrir y apoyar a pequeños emprendedores locales que se dedican a la moda\, la artesanía y otros productos creativos. \nElisa Durán\, con sus marcas Farobag (bolsos de tela) y Farowear (ropa textil hecha a mano)\, estará presente en este evento. Farobag se destaca por su compromiso con la ética y la sostenibilidad en la moda artesanal\, utilizando materiales reciclados y procesos de fabricación responsables. Los productos de Farobag son conocidos por su calidad\, durabilidad y diseño único\, ofreciendo a los clientes la oportunidad de personalizar sus bolsos y prendas según sus gustos​​. \nEmblemática Ubicación en el Corazón de La Laguna\nEl Hotel Aguere\, situado en el corazón del casco antiguo de San Cristóbal de La Laguna\, es un lugar emblemático declarado Patrimonio Histórico de la Humanidad por la UNESCO. El hotel ofrece un ambiente acogedor y elegante\, con 22 habitaciones diseñadas para brindar la máxima comodidad a sus huéspedes. Cada habitación está equipada con todas las comodidades modernas\, incluyendo Wi-Fi gratuito\, televisión de pantalla plana y baños de mármol. \nEl hotel está estratégicamente ubicado frente al Teatro Leal y cerca de otros puntos de interés cultural y turístico\, lo que lo convierte en un lugar ideal para los visitantes que desean explorar la ciudad mientras disfrutan del evento. Además\, el hotel cuenta con una terraza al sol y un café donde los asistentes pueden relajarse y disfrutar de la atmósfera única del evento
URL:https://farobag.com/evento/aguere-rooms-summer-edition-2024/
LOCATION:Hotel Aguere\, Calle Obispo Rey Redondo\, 55\, San Cristóbal de La Laguna\, Santa Cruz de Tenerife\, 38201\, España
CATEGORIES:Exposición y venta
ATTACH;FMTTYPE=image/jpeg:https://farobag.com/wp-content/uploads/2024/06/aguere-rooms-summer-2024.jpg
END:VEVENT
END:VCALENDAR