BEGIN:VCALENDAR
VERSION:2.0
PRODID:-//Farobag bolsos y complementos - ECPv6.15.20//NONSGML v1.0//EN
CALSCALE:GREGORIAN
METHOD:PUBLISH
X-WR-CALNAME:Farobag bolsos y complementos
X-ORIGINAL-URL:https://farobag.com
X-WR-CALDESC:Eventos para Farobag bolsos y complementos
REFRESH-INTERVAL;VALUE=DURATION:PT1H
X-Robots-Tag:noindex
X-PUBLISHED-TTL:PT1H
BEGIN:VTIMEZONE
TZID:UTC
BEGIN:STANDARD
TZOFFSETFROM:+0000
TZOFFSETTO:+0000
TZNAME:UTC
DTSTART:20230101T000000
END:STANDARD
END:VTIMEZONE
BEGIN:VEVENT
DTSTART;TZID=UTC:20241213T100000
DTEND;TZID=UTC:20241215T200000
DTSTAMP:20260423T014605
CREATED:20241211T111032Z
LAST-MODIFIED:20241215T110706Z
UID:6292-1734084000-1734292800@farobag.com
SUMMARY:VI Feria de Artesanía Navideña de Tegueste
DESCRIPTION:EL EVENTO FUE SUSPENDIDO POR LAS CONDICIONES METEOROLÓGICAS ADVERSAS \nLa 6.ª Feria de Artesanía Navideña de Tegueste se ilumina este diciembre con la presencia de Elisa Durán\, reconocida por sus creaciones únicas hechas a mano en su taller artesanal. Entre los días 13 y 15\, el encanto de la artesanía local se entrelazará con la magia navideña\, ofreciendo a los visitantes una oportunidad para descubrir piezas exclusivas que reflejan tradición\, creatividad y sostenibilidad. Con un enfoque en materiales éticos y procesos responsables\, Elisa promete sorprender con sus últimas innovaciones\, ideales para quienes buscan regalos auténticos y con propósito en esta temporada festiva. ¡No te lo pierdas! \nFarobag y Farowear: Moda Ética y Sostenible en la VI Feria de Artesanía Navideña de Tegueste\nLa VI Feria de Artesanía Navideña de Tegueste\, que se celebra del 13 al 15 de diciembre de 2024\, reúne a 53 puestos de artesanía\, foodtrucks y música en vivo\, ofreciendo una experiencia festiva completa para todos los asistentes. Este evento destaca por su compromiso con la sostenibilidad y por ser una plataforma para el talento local y la promoción de productos éticos. \nEntre los expositores estarán Farobag y Farowear\, marcas dedicadas a la moda artesanal y sostenible. Farobag\, reconocida por sus bolsos elaborados a mano con materiales ecológicos\, y Farowear\, que crea prendas de vestir bajo principios éticos\, presentan colecciones que reflejan su compromiso con el medio ambiente y las comunidades locales. Ambas marcas se alinean perfectamente con los valores de la feria\, ofreciendo a los visitantes opciones responsables que combinan diseño\, calidad y conciencia ambiental. \nLa feria es una oportunidad única para disfrutar de la magia navideña mientras se apoya a productores locales y se fomenta el consumo responsable. Farobag y Farowear prometen sorprender con sus creaciones\, reafirmando su posición como referentes en moda ética dentro de un evento que celebra la tradición y la sostenibilidad. \nFechas y horario de apertura\nViernes\, 13 de diciembre: 17.00–20.00hSábado\, 14 de diciembre: 10.00–20.00hDomingo\, 15 de diciembre: 10.00–18.00h
URL:https://farobag.com/evento/vi-feria-de-artesania-navidena-de-tegueste/
LOCATION:Plaza de San Marcos\, Plaza de San Marcos\, Tegueste\, Santa Cruz de Tenerife\, 38280\, Spain
ATTACH;FMTTYPE=image/jpeg:https://farobag.com/wp-content/uploads/2024/12/WhatsApp-Image-2024-12-11-at-08.25.28.jpeg
END:VEVENT
BEGIN:VEVENT
DTSTART;TZID=UTC:20241218T100000
DTEND;TZID=UTC:20241223T210000
DTSTAMP:20260423T014605
CREATED:20241211T152520Z
LAST-MODIFIED:20241212T172712Z
UID:6302-1734516000-1734987600@farobag.com
SUMMARY:3ª Feria de Artesanía de Santa Cruz
DESCRIPTION:Farobag y Farowear en la 3ª Feria de Artesanía de ARTEFE\nEstamos emocionados de contarles que Farobag y Farowear estarán en la 3ª Feria de Artesanía de ARTEFE\, un evento lleno de creatividad y talento local\, que se celebra del 18 al 23 de diciembre en la icónica Plaza de España\, en Santa Cruz de Tenerife. Será una oportunidad perfecta para conocer nuestras piezas únicas y disfrutar del ambiente navideño. \n¿Qué hace especial esta feria?\nLa Feria de Artesanía de ARTEFE es mucho más que un mercado. Es el lugar ideal para descubrir trabajos hechos a mano con cariño y dedicación\, desde joyería y ropa hasta decoración y productos gastronómicos. Forma parte del programa navideño de Santa Cruz\, que incluye conciertos\, espectáculos y actividades para todas las edades. ¡Es el planazo perfecto para estas fechas! \nSanta Cruz y la Plaza de España: el corazón de la isla\nSanta Cruz de Tenerife es una ciudad llena de vida\, y la Plaza de España es su corazón. Con su lago central y su historia a flor de piel\, es el lugar perfecto para reunirse con amigos\, pasear en familia y\, por supuesto\, hacer compras únicas. Durante la Navidad\, la plaza brilla aún más con luces\, música y ese ambiente mágico que hace que quieras quedarte un rato más. \n¡No te lo pierdas!\nTe invitamos a pasar por nuestro stand en la feria y descubrir regalos perfectos para Navidad y Reyes. Al elegir productos hechos a mano\, estás apoyando a los artesanos locales y fomentando un consumo más sostenible y consciente. Así que ya sabes\, ven a vivir la magia de la Navidad en Santa Cruz\, llévate algo único y disfruta de todo lo que esta feria tiene para ofrecer. ¡Te esperamos! 🎄✨
URL:https://farobag.com/evento/3a-feria-de-artesania-de-santa-cruz/
LOCATION:Plaza de España\, Plaza de España\, Santa Cruz de Tenerife\, Santa Cruz de Tenerife\, 38003\, España
CATEGORIES:Feria
ATTACH;FMTTYPE=image/jpeg:https://farobag.com/wp-content/uploads/2024/12/artefe-navidad-2024.jpg
ORGANIZER;CN="ARTEFE - Asociaci%C3%B3n de Artesanos de Santa Cruz de Tenerife":MAILTO:artefesantacruz@gmail.com
END:VEVENT
BEGIN:VEVENT
DTSTART;TZID=UTC:20241227T000000
DTEND;TZID=UTC:20241229T000000
DTSTAMP:20260423T014605
CREATED:20241226T165603Z
LAST-MODIFIED:20241226T170659Z
UID:6329-1735257600-1735430400@farobag.com
SUMMARY:Proyectea Rooms Diciembre 2024
DESCRIPTION:Del 27 al 29 de diciembre de 2024\, el emblemático hotel Iberostar Heritage Grand Mencey en Santa Cruz de Tenerife acogerá la quinta edición de Proyectea Rooms\, un evento dedicado a la creatividad y el emprendimiento del talento local canario. Este encuentro se ha convertido en un referente para marcas emergentes de las Islas Canarias\, ofreciendo una plataforma única de exposición y venta. \nMás de 50 marcas participarán en esta edición\, que estará ambientada en la magia de la Navidad. El evento contará con actividades para todos los públicos\, como actuaciones musicales\, talleres\, showcookings\, catas\, una pista de hielo\, un mercado de flores exclusivo y una zona gastronómica. \nEntre las diseñadoras destacadas estará Elisa Durán\, creadora de las marcas de moda Farbag y Farowear\, quien presentará sus más recientes creaciones\, reflejando la esencia innovadora y estilizada de la moda canaria. \nProyectea Rooms no solo es un escaparate de productos locales\, sino también un espacio de aprendizaje y networking\, con formaciones en comunicación\, estrategias de financiación y empleo para impulsar a los emprendedores. \nLa entrada es gratuita\, y los asistentes pueden inscribirse previamente para acceder a las actividades programadas. Para más información sobre la programación y participantes\, visite la página oficial de Proyectea Rooms. No pierda la oportunidad de disfrutar de esta experiencia única que celebra el talento local en el corazón de Santa Cruz de Tenerife. \nInscripciones a las actividades y presentaciones → en la web de Proyectea \nFechas y horario de apertura:\nViernes\, 27 de diciembre: 17.00 h – 22.00 h (Market hasta las 21.00 h)\nSábado\, 28 de diciembre: 10:30 h – 22.00 h (Market hasta las 21.00 h)\nDomingo\, 29 de diciembre: 10:30 h – 22.00 h (Market hasta las 20.00 h)
URL:https://farobag.com/evento/proyectea-rooms-diciembre-2024/
LOCATION:Iberostar Heritage Grand Mencey\, Calle Dr. Jose Naveiras\, 38\, Santa Cruz de Tenerife\, Santa Cruz de Tenerife\, 38004\, España
CATEGORIES:Exposición y venta,Mercadillo
ATTACH;FMTTYPE=image/jpeg:https://farobag.com/wp-content/uploads/2024/12/proyectea-12-2024.jpg
END:VEVENT
BEGIN:VEVENT
DTSTART;TZID=UTC:20250102T100000
DTEND;TZID=UTC:20250105T210000
DTSTAMP:20260423T014605
CREATED:20241211T191724Z
LAST-MODIFIED:20241211T194803Z
UID:6309-1735812000-1736110800@farobag.com
SUMMARY:XVI Mercado Navideño de Artesanía - La Laguna
DESCRIPTION:Descubre el Mercado Navideño de Artesanía en La Laguna\nEl Mercado Navideño de Artesanía en la Plaza del Adelantado\, en La Laguna\, es un evento anual que celebra la tradición artesanal y la creatividad local. Organizado bajo la supervisión del Cabildo de Tenerife y el Ayuntamiento de La Laguna\, este mercadillo se ha convertido en una cita imprescindible para quienes buscan productos únicos\, hechos a mano y sostenibles durante la temporada navideña. \nEsta feria reúne a una variedad de artesanos que exponen productos como joyería\, cerámica\, textiles\, productos de cuero y arte en madera. Cada pieza cuenta una historia y refleja el patrimonio cultural y artístico de la región. Los visitantes tienen la oportunidad de adquirir artículos originales\, ideales para regalos de Navidad\, al tiempo que apoyan a productores locales y fomentan un modelo de economía circular. \nActividades y Tradiciones en el Mercadillo de Reyes\nAdemás de la oferta de productos artesanales\, el evento se enriquece con actividades complementarias. Entre ellas\, se incluyen talleres interactivos\, demostraciones en vivo de técnicas artesanales y espectáculos culturales. Estas actividades no solo brindan entretenimiento\, sino también una oportunidad educativa para aprender más sobre el valor de las tradiciones y el impacto positivo del consumo consciente. \nLa feria crea un ambiente festivo único que combina la magia de la Navidad con el compromiso hacia un estilo de vida más ético y sostenible. Si buscas un mercadillo de Reyes donde encontrar regalos únicos y vivir la esencia de las fiestas\, este mercado es una experiencia imperdible. \nVive una Experiencia Artesanal Única\nEl Mercado Navideño de Artesanía en La Laguna es mucho más que un simple espacio de compras. Es un lugar donde la creatividad\, la tradición y la sostenibilidad se encuentran\, ofreciendo a los visitantes una experiencia inolvidable en el corazón de la ciudad. No pierdas la oportunidad de formar parte de este evento que realza el espíritu navideño mientras apoya a los artesanos locales. \nHorario de apertura: 11.00 a 14.00 y 15.00 a 22.00h
URL:https://farobag.com/evento/xvi-mercado-navideno-artesania/
LOCATION:Plaza del Adelantado\, Plaza del Adelantado\, San Cristóbal de La Laguna\, Santa Cruz de Tenerife\, 38201\, España
CATEGORIES:Mercadillo
ATTACH;FMTTYPE=image/jpeg:https://farobag.com/wp-content/uploads/2024/12/artesania-reyes-2025-LL.jpg
END:VEVENT
BEGIN:VEVENT
DTSTART;TZID=UTC:20250315T100000
DTEND;TZID=UTC:20250316T190000
DTSTAMP:20260423T014605
CREATED:20250310T181722Z
LAST-MODIFIED:20250311T103754Z
UID:6392-1742032800-1742151600@farobag.com
SUMMARY:La Casa de Hansel y Gretel - Complementos - Moda
DESCRIPTION:Farobag en «La Casa de Hansel y Gretel»: Innovación y Sostenibilidad en La Laguna\nEl evento «La Casa de Hansel y Gretel» regresa al Hotel Aguere de La Laguna\, reuniendo a diseñadores y marcas comprometidas con la creatividad y la sostenibilidad. En esta edición\, Eilsa Durán\, de Farobag\, presenta sus más recientes creaciones\, demostrando una vez más que es posible fusionar innovación\, responsabilidad ambiental y diseño de alta calidad. Sus piezas reflejan un enfoque consciente en el uso de materiales y procesos sostenibles\, promoviendo un consumo más ético y duradero. \nComo novedad\, Farobag introduce una línea de bolsos diseñados para hombres\, perfectos como regalo para el Día del Padre. Con un enfoque funcional y estilizado\, estas piezas ofrecen una alternativa sostenible a los accesorios convencionales\, reafirmando la filosofía de la marca: diseñar productos únicos que combinan estética\, practicidad y respeto por el planeta. \nHorario de apertura: \nSábado 15 de marzo: 11:00 – 19:00h\nDomingo 16 de marzo: 11:00 – 19:00h
URL:https://farobag.com/evento/la-casa-de-hansel-y-gretel-complementos-moda/
LOCATION:Hotel Aguere\, Calle Obispo Rey Redondo\, 55\, San Cristóbal de La Laguna\, Santa Cruz de Tenerife\, 38201\, España
CATEGORIES:Exposición y venta
ATTACH;FMTTYPE=image/jpeg:https://farobag.com/wp-content/uploads/2025/03/hansel.jpg
END:VEVENT
BEGIN:VEVENT
DTSTART;TZID=UTC:20250809T110000
DTEND;TZID=UTC:20250809T200000
DTSTAMP:20260423T014605
CREATED:20250805T140854Z
LAST-MODIFIED:20250805T143635Z
UID:6501-1754737200-1754769600@farobag.com
SUMMARY:Mercadillo de Artesanía en Vilaflor de Chasna "Vilaflor Late 2025"
DESCRIPTION:El próximo 9 de agosto de 2025\, la diseñadora canaria Elisa Durán participará en el CanaryMarket\, un destacado mercado de artesanía que se celebrará en Vilaflor\, el municipio más alto de España\, en el corazón de Tenerife. Este evento forma parte del programa cultural Vilaflor Late 2025 y reunirá a creadores y marcas independientes que apuestan por la creatividad\, la calidad y el compromiso con el entorno. En esta edición\, Elisa presentará sus colecciones de bolsos de tela y ropa hecha a mano\, bajo sus marcas Farobag y Farowear. \nEl CanaryMarket en Vilaflor es una cita imprescindible para los amantes de la artesanía canaria y el diseño sostenible. Los visitantes podrán descubrir propuestas únicas elaboradas con técnicas tradicionales y materiales responsables. Las creaciones de Elisa destacan por su enfoque en la moda sostenible\, utilizando tejidos reciclados\, producciones limitadas y procesos respetuosos con el medioambiente\, en sintonía con las nuevas formas de consumir moda de manera consciente y ética. \nAdemás de ser un escaparate del talento artesanal de Canarias\, el evento se desarrollará en un entorno natural privilegiado\, rodeado de pinos y arquitectura rural típica. La participación de Farobag y Farowear en este mercado de artesanía en Vilaflor refuerza su compromiso con la producción local y con una artesanía canaria contemporánea que apuesta por la funcionalidad\, la estética y la sostenibilidad.
URL:https://farobag.com/evento/artesania-en-vilaflor-de-vilaflor-late-2025/
LOCATION:Plaza de San Pedro\, Vilaflor de Chasna\, Santa Cruz de Tenerife\, 38613\, Spain
CATEGORIES:Mercadillo
ATTACH;FMTTYPE=image/png:https://farobag.com/wp-content/uploads/2025/08/cartel-vilaflor-late-2025.png
ORGANIZER;CN="Canary Maket Place":MAILTO:canarymarketplace@gmail.com
END:VEVENT
BEGIN:VEVENT
DTSTART;TZID=UTC:20250824T100000
DTEND;TZID=UTC:20250824T170000
DTSTAMP:20260423T014605
CREATED:20250807T122004Z
LAST-MODIFIED:20250807T182615Z
UID:6511-1756029600-1756054800@farobag.com
SUMMARY:Feria de Artesanía Buenavista del Norte
DESCRIPTION:Elisa Durán en la Feria de Artesanía de Buenavista del Norte – 24 de agosto\nEl sábado 24 de agosto\, Elisa Durán volverá a formar parte de la Feria de Artesanía de Buenavista del Norte\, un encuentro que celebra la creatividad\, el saber hacer tradicional y el compromiso con formas de producción más conscientes. Reconocida por su enfoque en la moda sostenible y artesanal\, Elisa trabaja con materiales recuperados y textiles reciclados\, dando nueva vida a lo que otros descartan. Cada una de sus piezas representa una alternativa ética y respetuosa con el entorno frente al modelo industrial de la moda rápida. \nParticipar en esta feria no solo es una oportunidad para descubrir creaciones únicas\, sino también para reflexionar sobre la importancia de apoyar una industria textil más justa y responsable. El trabajo de Elisa invita a repensar nuestros hábitos de consumo\, valorando lo hecho a mano\, lo local y lo duradero. \nBuenavista del Norte\, al noroeste de Tenerife\, ofrece un marco excepcional para este tipo de eventos. Su entorno natural\, que combina mar y montaña\, y su fuerte vínculo con las tradiciones hacen de este municipio un referente en la promoción de la cultura y la artesanía canaria. La comunidad local mantiene vivo un legado intergeneracional que se expresa en cada pieza exhibida durante la feria. \nLa cita será en la Plaza de Nuestra Señora de los Remedios\, a partir de las 10:00 h. Más de treinta artesanos compartirán su trabajo en un ambiente festivo\, con música en directo y actividades para todas las edades. Un día para reconectar con lo auténtico y apoyar prácticas que cuidan de las personas y del planeta. \nLas Fiestas comienzan el sábado\, día 23 de agosto alas 12.00 del mediodía. \nEl programa festivo de la Feria de Buenavista prevé:\nSábado\, 23 de agosto \n\n12.00 h – suelta de la Diablita de San Bartolomé en la Parroquia de Nuestra Señora de los Remedios.\n12:30 h – concierto de la Banda de Música Municipal Nuestra Señora de los remedios en la Plaza de los Remedios\n\nDomingo 24 de agosto \n\n10:00 h – Feria de Artesanía San Bartolomé (todo el día)\n11:30 h – Santa Misa y procesión en honor a San Bartolomé\, patrón del municippio.\n12:00 h – Amarre de la Diablita de San Bartolomé en la Parroquia de Nuestra Señora de los Remedios\n17:00 h – parranda del Timplillo en la Plaza de los Remedios
URL:https://farobag.com/evento/feria-de-artesania-buenavista-del-norte/
LOCATION:Plaza de los Remedios\, Plaza de los Remedios\, Buenavista del Norte\, Santa Cruz de Tenerife\, 38480\, España
CATEGORIES:Feria,Mercadillo
ATTACH;FMTTYPE=image/jpeg:https://farobag.com/wp-content/uploads/2025/08/SAN-BARTOLOME-RRSS-web.jpg
END:VEVENT
BEGIN:VEVENT
DTSTART;TZID=UTC:20260205T100000
DTEND;TZID=UTC:20260207T170000
DTSTAMP:20260423T014605
CREATED:20260128T112718Z
LAST-MODIFIED:20260128T150829Z
UID:6685-1770285600-1770483600@farobag.com
SUMMARY:Farobag presenta sus creaciones sostenibles en Bisutex 2026
DESCRIPTION:Elisa\, la mente creativa detrás de Farobag y Farowear\, estará presente en la próxima edición de Bisutex 2026\, donde presentará sus más recientes colecciones de bolsos de tela y prendas de ropa sostenible. Esta participación marca un paso importante para la marca\, que busca acercar su propuesta ética y consciente a un público profesional en busca de alternativas reales al modelo de moda convencional. Cada pieza expuesta es el reflejo de un proceso comprometido con el medio ambiente y el respeto por las personas que hacen posible su creación. \nBisutex\, organizada por IFEMA Madrid\, es una de las ferias profesionales más relevantes en el sector de la bisutería\, los complementos de moda y el diseño de autor. Reúne dos veces al año a marcas consolidadas\, diseñadores independientes y compradores de todo el mundo\, convirtiéndose en un punto de encuentro clave para conocer las tendencias emergentes y descubrir propuestas con identidad. En este contexto\, la presencia de iniciativas sostenibles como Farobag cobra especial relevancia\, al aportar una mirada necesaria en un sector que enfrenta grandes desafíos sociales y medioambientales. \nPara los profesionales del sector —tiendas especializadas\, concept stores\, distribuidores\, agentes o responsables de compras—\, asistir a Bisutex 2026 representa una oportunidad estratégica: no solo para encontrar productos con valor añadido\, sino también para establecer vínculos con marcas que apuestan por una moda más justa. En un momento donde la trazabilidad\, el origen de los materiales y las condiciones de producción son cada vez más importantes\, propuestas como la de Farobag ofrecen respuestas claras. La feria es el lugar ideal para descubrir este tipo de proyectos\, que combinan diseño\, ética y compromiso real con el cambio.
URL:https://farobag.com/evento/bisutex-2025/
LOCATION:IFEMA\, FERIA DE MADRID\, Av. Partenón\, Nº 5\, Madrid\, Madrid\, 28042\, España
CATEGORIES:Feria
ATTACH;FMTTYPE=image/jpeg:https://farobag.com/wp-content/uploads/2026/01/WhatsApp-Image-2026-01-28-at-10.57.31.jpeg
END:VEVENT
END:VCALENDAR