BEGIN:VCALENDAR
VERSION:2.0
PRODID:-//Farobag bolsos y complementos - ECPv6.15.20//NONSGML v1.0//EN
CALSCALE:GREGORIAN
METHOD:PUBLISH
X-WR-CALNAME:Farobag bolsos y complementos
X-ORIGINAL-URL:https://farobag.com
X-WR-CALDESC:Eventos para Farobag bolsos y complementos
REFRESH-INTERVAL;VALUE=DURATION:PT1H
X-Robots-Tag:noindex
X-PUBLISHED-TTL:PT1H
BEGIN:VTIMEZONE
TZID:UTC
BEGIN:STANDARD
TZOFFSETFROM:+0000
TZOFFSETTO:+0000
TZNAME:UTC
DTSTART:20200101T000000
END:STANDARD
END:VTIMEZONE
BEGIN:VEVENT
DTSTART;TZID=UTC:20210319T100000
DTEND;TZID=UTC:20210410T190000
DTSTAMP:20260426T033003
CREATED:20210318T162837Z
LAST-MODIFIED:20210318T163756Z
UID:4143-1616148000-1618081200@farobag.com
SUMMARY:Beach Market en La Createca
DESCRIPTION:Los mejores artesanos del sector se reunen en La Createca en Santa Cruz de Tenerife. \nEsta exposición en formato pop-up se realiza entre el 19 de marzo y el 10 de abril en la calle Teobaldo Power 16 de la capital Chicharrera. \nHorario comercial\nLunes — viernes: 10.30 — 14:30 y 16:30 — 20:30\nSábado:  10.30 — 14:30 \nRogamos respetar el protocolo covid-19
URL:https://farobag.com/evento/beach-market-en-la-createca/
LOCATION:La Createca\, c/Teobaldo Power\, 16\, Santa Cruz de Tenerife\, Santa Cruz de Tenerife\, 38002\, España
CATEGORIES:Exposición y venta
ATTACH;FMTTYPE=image/jpeg:https://farobag.com/wp-content/uploads/2021/03/cartel.jpg
END:VEVENT
END:VCALENDAR