BEGIN:VCALENDAR
VERSION:2.0
PRODID:-//Farobag bolsos y complementos - ECPv6.15.20//NONSGML v1.0//EN
CALSCALE:GREGORIAN
METHOD:PUBLISH
X-ORIGINAL-URL:https://farobag.com
X-WR-CALDESC:Eventos para Farobag bolsos y complementos
REFRESH-INTERVAL;VALUE=DURATION:PT1H
X-Robots-Tag:noindex
X-PUBLISHED-TTL:PT1H
BEGIN:VTIMEZONE
TZID:UTC
BEGIN:STANDARD
TZOFFSETFROM:+0000
TZOFFSETTO:+0000
TZNAME:UTC
DTSTART:20220101T000000
END:STANDARD
END:VTIMEZONE
BEGIN:VEVENT
DTSTART;TZID=UTC:20231205T090000
DTEND;TZID=UTC:20231210T200000
DTSTAMP:20260421T001020
CREATED:20231205T102317Z
LAST-MODIFIED:20231205T103530Z
UID:5802-1701766800-1702238400@farobag.com
SUMMARY:39ª Feria de Artesanía de Canarias
DESCRIPTION:La 39ª edición de la prestigiosa Feria de Artesanía de Canarias se prepara para abrir sus puertas en el emblemático Recinto Ferial de Santa Cruz de Tenerife\, prometiendo una experiencia inolvidable para los amantes del arte y la cultura. Desde el 5 hasta el 10 de diciembre de 2023\, este evento anual congregará a algunos de los artesanos más talentosos del archipiélago\, ofreciendo una ventana excepcional al arte y la creatividad canaria. Entre los participantes destacados de este año\, se encuentra la aclamada marca Farobag\, que promete deleitar al público con su nueva y exquisita colección de bolsos de tela y prendas de vestir. Estos artículos\, no solo representan la habilidad y el ingenio de sus creadores\, sino también el compromiso de Farobag con la sostenibilidad y la moda consciente. La Feria de Artesanía de Canarias se perfila así como un evento imperdible\, donde la tradición se fusiona con la innovación\, y donde cada pieza cuenta una historia única. \nSanta Cruz – el epicentro de la innovación artesanal 2023\nLa 39ª Feria de Artesanía de Tenerife\, celebrada en la vibrante capital de Santa Cruz\, es un evento de significativa importancia para el panorama artesanal de Canarias. Este evento anual no solo sirve como una vitrina para la rica y diversa artesanía del archipiélago\, sino que también actúa como un puente entre los artesanos locales y un público más amplio\, ansioso por descubrir y adquirir piezas únicas de arte popular. La feria es un crisol donde la tradición se encuentra con la innovación\, ofreciendo a los visitantes la oportunidad de explorar y comprar productos artesanales de primera calidad\, desde textiles delicadamente tejidos hasta cerámica pintada a mano y joyería intrincada. Esta feria no es solo una celebración de la habilidad y creatividad de los artesanos de Canarias\, sino también una invitación abierta a los amantes del arte y la cultura para que se sumerjan en esta experiencia única. Si aprecias el arte auténtico y los productos hechos con pasión\, la 39ª Feria de Artesanía de Tenerife es un evento que no debes perderte.
URL:https://farobag.com/evento/39a-feria-de-artesania-de-canarias/
LOCATION:Recinto Ferial de Tenerife\, Avenida de la Constitución\, 12\, Santa Cruz de Tenerife\, Santa Cruz de Tenerife\, 38005\, Spain
CATEGORIES:Feria
ATTACH;FMTTYPE=image/jpeg:https://farobag.com/wp-content/uploads/2023/12/39feriaartesania.jpg
END:VEVENT
END:VCALENDAR