BEGIN:VCALENDAR
VERSION:2.0
PRODID:-//Farobag bolsos y complementos - ECPv6.15.20//NONSGML v1.0//EN
CALSCALE:GREGORIAN
METHOD:PUBLISH
X-WR-CALNAME:Farobag bolsos y complementos
X-ORIGINAL-URL:https://farobag.com
X-WR-CALDESC:Eventos para Farobag bolsos y complementos
REFRESH-INTERVAL;VALUE=DURATION:PT1H
X-Robots-Tag:noindex
X-PUBLISHED-TTL:PT1H
BEGIN:VTIMEZONE
TZID:UTC
BEGIN:STANDARD
TZOFFSETFROM:+0000
TZOFFSETTO:+0000
TZNAME:UTC
DTSTART:20220101T000000
END:STANDARD
END:VTIMEZONE
BEGIN:VEVENT
DTSTART;TZID=UTC:20231103T100000
DTEND;TZID=UTC:20231105T200000
DTSTAMP:20260421T012055
CREATED:20231004T081523Z
LAST-MODIFIED:20231101T181259Z
UID:5761-1699005600-1699214400@farobag.com
SUMMARY:38ª Feria de Artesanía de Canarias en Pinolere
DESCRIPTION:Las nuevas fechas son el 3\, 4 y 5 de noviembre. \nLa Feria de Artesanía de Pinolere es un evento emblemático que se celebra en el pintoresco pueblo de Pinolere\, en el norte de Tenerife. Esta feria reúne a artesanos de todas partes de las Islas Canarias y de otras regiones de España\, convirtiéndose en un punto de encuentro para los amantes de la artesanía tradicional y contemporánea. Durante el evento\, los visitantes pueden apreciar y adquirir piezas únicas\, desde cerámica\, joyería\, tejidos\, hasta trabajos en madera y cuero\, entre otros. Además\, la feria ofrece talleres\, demostraciones en vivo y actividades culturales que enriquecen la experiencia de los asistentes. \nEste año\, la marca Farobag hará acto de presencia en la Feria de Artesanía de Pinolere\, destacando con sus últimas creaciones en ropa y bolsos de tela. Farobag es conocida por su compromiso con la sostenibilidad y la calidad\, utilizando materiales ecológicos y técnicas tradicionales en la confección de sus productos. Sus diseños\, que combinan la modernidad con toques tradicionales\, han capturado la atención de fashionistas y amantes de la moda sostenible. Sin duda\, su stand será uno de los más visitados\, donde los asistentes podrán descubrir y adquirir las últimas tendencias en moda artesanal. \nHorario de apertura: \nViernes – domingo: de 10:00 a 20:00h
URL:https://farobag.com/evento/38a-feria-de-artesania-de-canarias-en-pinolere/
LOCATION:Pinolere\, Recinto etnográfico de Pinolere\, La Orotava\, Santa Cruz de Tenerife\, 38310\, España
CATEGORIES:Feria
ATTACH;FMTTYPE=image/jpeg:https://farobag.com/wp-content/uploads/2023/10/WhatsApp-Image-2023-10-10-at-13.49.48.jpeg
ORGANIZER;CN="Asociaci%C3%B3n Cultural Pinolere":MAILTO:jpinolere@gmail.com
END:VEVENT
END:VCALENDAR