BEGIN:VCALENDAR
VERSION:2.0
PRODID:-//Farobag bolsos y complementos - ECPv6.15.20//NONSGML v1.0//EN
CALSCALE:GREGORIAN
METHOD:PUBLISH
X-ORIGINAL-URL:https://farobag.com
X-WR-CALDESC:Eventos para Farobag bolsos y complementos
REFRESH-INTERVAL;VALUE=DURATION:PT1H
X-Robots-Tag:noindex
X-PUBLISHED-TTL:PT1H
BEGIN:VTIMEZONE
TZID:UTC
BEGIN:STANDARD
TZOFFSETFROM:+0000
TZOFFSETTO:+0000
TZNAME:UTC
DTSTART:20220101T000000
END:STANDARD
END:VTIMEZONE
BEGIN:VEVENT
DTSTART;TZID=UTC:20230908T170000
DTEND;TZID=UTC:20230915T220000
DTSTAMP:20260421T122347
CREATED:20230830T191236Z
LAST-MODIFIED:20230830T191539Z
UID:5647-1694192400-1694815200@farobag.com
SUMMARY:34ª Feria de artesanía de Lanzarote
DESCRIPTION:Farobag expone sus últimas creaciones en la 34ª Feria de Artesanía de Lanzarote\nCita obligatoria para todos los amantes de la artesanía\, la 34ª Feria de artesanía de Lanzarote se celebra en Mancha Blanca – Tinajo entre el 8 y el 15 de septiembre 2023. Elisa Durán\, modista y diseñadora de las marcas Farobag y Farowear vuelve a tener un puesto  para exhibir y vender su más reciente trabajo: ropa y bolsos de tela de la mejor calidad\, hechos a mano de forma sostenible y ética en su taller de Tenerife. \nHorario de la feria: \nViernes 8: 17.00h a 22.00h\nSábado 9: 11.00h a 22.00h\nDomingo 10: 11.00h a 22.00h\nLunes 11: 17.00h a 22.00h\nMartes 12: 17.00h a 22.00h\nMiércoles 13: 17.00h a 22.00h\nJueves 14: 11.00h a 22.00h\nViernes 15: 11.00h a 22.00h
URL:https://farobag.com/evento/34a-feria-de-artesania-de-lanzarote/
LOCATION:Tinajo – Mancha Blanca\, C. Virgen de los Dolores\, Tinajo\, Las Palmas de Gran Canaria\, 35560\, España
CATEGORIES:Feria,Mercadillo
ATTACH;FMTTYPE=image/jpeg:https://farobag.com/wp-content/uploads/2023/08/IMG_4900.jpg
ORGANIZER;CN="Cabildo de Lanzarote":MAILTO:artesania@cabildodelanzarote.com
END:VEVENT
END:VCALENDAR