BEGIN:VCALENDAR
VERSION:2.0
PRODID:-//Farobag bolsos y complementos - ECPv6.15.20//NONSGML v1.0//EN
CALSCALE:GREGORIAN
METHOD:PUBLISH
X-ORIGINAL-URL:https://farobag.com
X-WR-CALDESC:Eventos para Farobag bolsos y complementos
REFRESH-INTERVAL;VALUE=DURATION:PT1H
X-Robots-Tag:noindex
X-PUBLISHED-TTL:PT1H
BEGIN:VTIMEZONE
TZID:UTC
BEGIN:STANDARD
TZOFFSETFROM:+0000
TZOFFSETTO:+0000
TZNAME:UTC
DTSTART:20210101T000000
END:STANDARD
END:VTIMEZONE
BEGIN:VEVENT
DTSTART;TZID=UTC:20220821T100000
DTEND;TZID=UTC:20220821T210000
DTSTAMP:20260424T174418
CREATED:20220818T124649Z
LAST-MODIFIED:20220818T124649Z
UID:5051-1661076000-1661115600@farobag.com
SUMMARY:Feria de Artesanía de Buenavista 2022
DESCRIPTION:Feria de Artesanía en Honor a San Bartolomé se celebra en Buenavista del Norte\nFarobag participa en esta célebre feria de artesanía en el pintoresco municipio costero de la Isla Baja de Tenerife. Como siempre con la mejor artesanía hecha a mano en Canarias\, esta feria es un evento para toda la familia.
URL:https://farobag.com/evento/feria-de-artesania-de-buenavista-2022/
LOCATION:Plaza de los Remedios\, Plaza de los Remedios\, Buenavista del Norte\, Santa Cruz de Tenerife\, 38480\, España
CATEGORIES:Feria
ATTACH;FMTTYPE=image/jpeg:https://farobag.com/wp-content/uploads/2022/08/Cartel-Feria-de-Artesania-Buenavista-2022.jpg
END:VEVENT
END:VCALENDAR