BEGIN:VCALENDAR
VERSION:2.0
PRODID:-//Farobag bolsos y complementos - ECPv6.15.20//NONSGML v1.0//EN
CALSCALE:GREGORIAN
METHOD:PUBLISH
X-WR-CALNAME:Farobag bolsos y complementos
X-ORIGINAL-URL:https://farobag.com
X-WR-CALDESC:Eventos para Farobag bolsos y complementos
REFRESH-INTERVAL;VALUE=DURATION:PT1H
X-Robots-Tag:noindex
X-PUBLISHED-TTL:PT1H
BEGIN:VTIMEZONE
TZID:UTC
BEGIN:STANDARD
TZOFFSETFROM:+0000
TZOFFSETTO:+0000
TZNAME:UTC
DTSTART:20210101T000000
END:STANDARD
END:VTIMEZONE
BEGIN:VEVENT
DTSTART;TZID=UTC:20220902T080000
DTEND;TZID=UTC:20220904T200000
DTSTAMP:20260423T010503
CREATED:20220819T104146Z
LAST-MODIFIED:20220902T072856Z
UID:5057-1662105600-1662321600@farobag.com
SUMMARY:XXXVII Feria de Artesanía de Pinolere 2022
DESCRIPTION:Un año más el Parque Etnográfico de Pinolere abre sus puertas para invitar a una de las más importantes y antiguas Ferias de Artesanía Canaria de las islas. Auspiciado por la Asociación Cultural de Pinolere\, esta muestra de la mejor artesanía – tanto tradicional como contemporánea – viene celebrándose desde hace 36 ediciones\, siendo esta la trigésimo séptima. \nUna trayectoria que Farobag lleva siguiendo desde hace tres años\, presentando sus artículos de moda artesanales al selecto público que todos los años acude a este certamen de artesanía\, conocedores de la calidad y de la singular estética de todo cuanto los artesanos ponen a la venta. Un evento que es cita obligada para muchos. \nHorario de la Feria:\nViernes 1 de septiembre: de 10.00 a 20.00 horas\nSábado 2 de septiembre: de 10.00 a 20.00 horas\nDomingo 3 de septiembre: de 10.00 a 20.00 horas \nPuedes descargar el programa oficial de la feria de Pinolere → aquí \n 
URL:https://farobag.com/evento/xxxvii-feria-de-artesania-de-pinolere-2022/
LOCATION:Pinolere\, Recinto etnográfico de Pinolere\, La Orotava\, Santa Cruz de Tenerife\, 38310\, España
CATEGORIES:Feria
ATTACH;FMTTYPE=image/jpeg:https://farobag.com/wp-content/uploads/2022/08/cartel-feria-artesania-pinolere-2022.jpg
ORGANIZER;CN="Asociaci%C3%B3n Cultural Pinolere":MAILTO:jpinolere@gmail.com
END:VEVENT
BEGIN:VEVENT
DTSTART;TZID=UTC:20220916T120000
DTEND;TZID=UTC:20220918T220000
DTSTAMP:20260423T010503
CREATED:20220901T175119Z
LAST-MODIFIED:20220913T101346Z
UID:5195-1663329600-1663538400@farobag.com
SUMMARY:5ª Feria Insular “Pon artesanía en tu mesa” en El Sauzal
DESCRIPTION:Por segundo año consecutivo Farobag participa en esta fantástica feria de artesanía en la Plaza del Príncipe del municipio tinerfeño de El Sauzal. Hay una gran programación para animar el evento a lo largo de los tres días: música\, exposiciones\, talleres y muchas actividades infantiles. \nLa entrada y la participación en las actividades son gratuitos. Pero para algunas hay plazas limitadas\, por lo que conviene inscribirse. Detalles salen en la → web del evento. \nHorario de la feria «Pon artesanía en tu mesa» de El Sauzal 2022\nViernes 16 de septiembre: 12.00—14.00 y 15.30—22.00\nSábado 17 de septiembre: 10.00—14.00 y 15.30—22.00\nDomingo 18 de septiembre: 10.00—14.00 y 15.30—22.00
URL:https://farobag.com/evento/5a-feria-insular-pon-artesania-en-tu-mesa-en-el-sauzal/
LOCATION:Plaza del Principe El Sauzal\, Plaza del Príncipe\, El Sauzal\, Santa Cruz de Tenerife\, 38360\, España
CATEGORIES:Feria
ATTACH;FMTTYPE=image/jpeg:https://farobag.com/wp-content/uploads/2022/09/WhatsApp-Image-2022-09-01-at-12.41.27.jpeg
END:VEVENT
END:VCALENDAR