BEGIN:VCALENDAR
VERSION:2.0
PRODID:-//Farobag bolsos y complementos - ECPv6.15.20//NONSGML v1.0//EN
CALSCALE:GREGORIAN
METHOD:PUBLISH
X-ORIGINAL-URL:https://farobag.com
X-WR-CALDESC:Eventos para Farobag bolsos y complementos
REFRESH-INTERVAL;VALUE=DURATION:PT1H
X-Robots-Tag:noindex
X-PUBLISHED-TTL:PT1H
BEGIN:VTIMEZONE
TZID:UTC
BEGIN:STANDARD
TZOFFSETFROM:+0000
TZOFFSETTO:+0000
TZNAME:UTC
DTSTART:20230101T000000
END:STANDARD
END:VTIMEZONE
BEGIN:VEVENT
DTSTART;TZID=UTC:20241213T100000
DTEND;TZID=UTC:20241215T200000
DTSTAMP:20260423T054622
CREATED:20241211T111032Z
LAST-MODIFIED:20241215T110706Z
UID:6292-1734084000-1734292800@farobag.com
SUMMARY:VI Feria de Artesanía Navideña de Tegueste
DESCRIPTION:EL EVENTO FUE SUSPENDIDO POR LAS CONDICIONES METEOROLÓGICAS ADVERSAS \nLa 6.ª Feria de Artesanía Navideña de Tegueste se ilumina este diciembre con la presencia de Elisa Durán\, reconocida por sus creaciones únicas hechas a mano en su taller artesanal. Entre los días 13 y 15\, el encanto de la artesanía local se entrelazará con la magia navideña\, ofreciendo a los visitantes una oportunidad para descubrir piezas exclusivas que reflejan tradición\, creatividad y sostenibilidad. Con un enfoque en materiales éticos y procesos responsables\, Elisa promete sorprender con sus últimas innovaciones\, ideales para quienes buscan regalos auténticos y con propósito en esta temporada festiva. ¡No te lo pierdas! \nFarobag y Farowear: Moda Ética y Sostenible en la VI Feria de Artesanía Navideña de Tegueste\nLa VI Feria de Artesanía Navideña de Tegueste\, que se celebra del 13 al 15 de diciembre de 2024\, reúne a 53 puestos de artesanía\, foodtrucks y música en vivo\, ofreciendo una experiencia festiva completa para todos los asistentes. Este evento destaca por su compromiso con la sostenibilidad y por ser una plataforma para el talento local y la promoción de productos éticos. \nEntre los expositores estarán Farobag y Farowear\, marcas dedicadas a la moda artesanal y sostenible. Farobag\, reconocida por sus bolsos elaborados a mano con materiales ecológicos\, y Farowear\, que crea prendas de vestir bajo principios éticos\, presentan colecciones que reflejan su compromiso con el medio ambiente y las comunidades locales. Ambas marcas se alinean perfectamente con los valores de la feria\, ofreciendo a los visitantes opciones responsables que combinan diseño\, calidad y conciencia ambiental. \nLa feria es una oportunidad única para disfrutar de la magia navideña mientras se apoya a productores locales y se fomenta el consumo responsable. Farobag y Farowear prometen sorprender con sus creaciones\, reafirmando su posición como referentes en moda ética dentro de un evento que celebra la tradición y la sostenibilidad. \nFechas y horario de apertura\nViernes\, 13 de diciembre: 17.00–20.00hSábado\, 14 de diciembre: 10.00–20.00hDomingo\, 15 de diciembre: 10.00–18.00h
URL:https://farobag.com/evento/vi-feria-de-artesania-navidena-de-tegueste/
LOCATION:Plaza de San Marcos\, Plaza de San Marcos\, Tegueste\, Santa Cruz de Tenerife\, 38280\, Spain
ATTACH;FMTTYPE=image/jpeg:https://farobag.com/wp-content/uploads/2024/12/WhatsApp-Image-2024-12-11-at-08.25.28.jpeg
END:VEVENT
END:VCALENDAR