BEGIN:VCALENDAR
VERSION:2.0
PRODID:-//Farobag bolsos y complementos - ECPv6.15.20//NONSGML v1.0//EN
CALSCALE:GREGORIAN
METHOD:PUBLISH
X-WR-CALNAME:Farobag bolsos y complementos
X-ORIGINAL-URL:https://farobag.com
X-WR-CALDESC:Eventos para Farobag bolsos y complementos
REFRESH-INTERVAL;VALUE=DURATION:PT1H
X-Robots-Tag:noindex
X-PUBLISHED-TTL:PT1H
BEGIN:VTIMEZONE
TZID:UTC
BEGIN:STANDARD
TZOFFSETFROM:+0000
TZOFFSETTO:+0000
TZNAME:UTC
DTSTART:20230101T000000
END:STANDARD
END:VTIMEZONE
BEGIN:VEVENT
DTSTART;TZID=UTC:20241122T100000
DTEND;TZID=UTC:20241124T200000
DTSTAMP:20260423T015131
CREATED:20241119T084205Z
LAST-MODIFIED:20241119T084205Z
UID:6267-1732269600-1732478400@farobag.com
SUMMARY:13ª Feria Insular de Artesanía de Adeje
DESCRIPTION:La 13ª Feria Insular de Artesanía de Tenerife se celebrará en Adeje del 22 al 24 de noviembre de 2024. Este evento reunirá a artesanos de toda la isla\, ofreciendo una plataforma para exhibir y comercializar sus creaciones únicas. El horario de la feria será: \n\nViernes 22 de noviembre: de 11:00 a 14:00 y de 15:30 a 20:00 horas.\nSábado 23 y domingo 24 de noviembre: de 10:00 a 14:00 y de 15:30 a 20:00 horas.\n\nLa diseñadora y modista Elisa Durán\, fundadora de las marcas Farobag y Farowear\, participará en esta edición de la feria. Conocida por su compromiso con la moda sostenible y ética\, Elisa presentará sus últimas colecciones de bolsos y prendas confeccionadas artesanalmente en Tenerife. Sus diseños destacan por la utilización de materiales reciclados y sostenibles\, reflejando una filosofía que promueve la producción local y responsable. \nAdeje\, municipio anfitrión de la feria\, es reconocido por sus atractivos turísticos\, entre los que destacan: \n\nPlayas de Costa Adeje: famosas por sus aguas cristalinas y arenas doradas\, ideales para el descanso y actividades acuáticas.\nParque Nacional del Teide: cercano a Adeje\, ofrece rutas de senderismo con vistas panorámicas del volcán y paisajes volcánicos únicos.\nBarranco del Infierno: una reserva natural que permite a los visitantes explorar senderos que conducen a una impresionante cascada.\nGastronomía local: Adeje es conocido por su oferta culinaria\, especialmente por el «pollo al ajillo»\, un plato típico de la zona.\n\nEstos atractivos convierten a Adeje en un destino ideal para quienes buscan combinar cultura\, naturaleza y gastronomía en su visita.
URL:https://farobag.com/evento/13a-feria-insular-de-artesania-de-adeje/
LOCATION:Madrid
ATTACH;FMTTYPE=image/jpeg:https://farobag.com/wp-content/uploads/2024/11/Feria-Insular-Artesania-Adeje-2024-11.jpg
END:VEVENT
END:VCALENDAR