BEGIN:VCALENDAR
VERSION:2.0
PRODID:-//Farobag bolsos y complementos - ECPv6.15.20//NONSGML v1.0//EN
CALSCALE:GREGORIAN
METHOD:PUBLISH
X-WR-CALNAME:Farobag bolsos y complementos
X-ORIGINAL-URL:https://farobag.com
X-WR-CALDESC:Eventos para Farobag bolsos y complementos
REFRESH-INTERVAL;VALUE=DURATION:PT1H
X-Robots-Tag:noindex
X-PUBLISHED-TTL:PT1H
BEGIN:VTIMEZONE
TZID:UTC
BEGIN:STANDARD
TZOFFSETFROM:+0000
TZOFFSETTO:+0000
TZNAME:UTC
DTSTART:20230101T000000
END:STANDARD
END:VTIMEZONE
BEGIN:VEVENT
DTSTART;TZID=UTC:20241005T110000
DTEND;TZID=UTC:20241006T200000
DTSTAMP:20260423T071158
CREATED:20241002T194235Z
LAST-MODIFIED:20241002T195011Z
UID:6230-1728126000-1728244800@farobag.com
SUMMARY:Mercadillo Tradicional de los Artesanos de Santa Cruz (ARTEFE)
DESCRIPTION:El Mercadillo Tradicional de los Artesanos de Santa Cruz forma parte de las actividades programadas durante las festividades de Plenilunio\, un evento cultural que llena la capital tinerfeña de entretenimiento y comercio local. Este mercadillo se celebra los días 5 y 6 de octubre en la Plaza del Príncipe\, donde artesanos locales\, como Elisa Durán\, exponen y venden productos hechos a mano\, promoviendo la creatividad y el arte tradicional. Además\, este espacio también albergará una macro ludoteca infantil\, que estará abierta de 11:00 a 20:00 horas\, ofreciendo diversión para los más pequeños. \nPlenilunio es una de las fiestas más importantes de Santa Cruz\, con actividades que abarcan desde espectáculos musicales hasta visitas culturales y recreaciones históricas\, distribuidas en varios puntos emblemáticos de la ciudad\, como el parque García Sanabria y la plaza de La Candelaria.
URL:https://farobag.com/evento/mercadillo-tradicional-artesanos/
LOCATION:Plaza del Príncipe\, Plaza del Principe\, Santa Cruz de Tenerife\, Santa Cruz de Tenerife\, 38002\, España
CATEGORIES:Mercadillo
ATTACH;FMTTYPE=image/png:https://farobag.com/wp-content/uploads/2024/10/cartel-plenilunio-2024a.png
END:VEVENT
BEGIN:VEVENT
DTSTART;TZID=UTC:20241005T110000
DTEND;TZID=UTC:20241006T210000
DTSTAMP:20260423T071158
CREATED:20241002T195850Z
LAST-MODIFIED:20241005T115550Z
UID:6239-1728126000-1728248400@farobag.com
SUMMARY:Le Good Market en el Plenilunio 2024 de Santa Cruz
DESCRIPTION:Le Good Market\, celebrado en el icónico Parque García Sanabria durante las festividades de Plenilunio los días 5 y 6 de octubre\, es un mercadillo innovador que fusiona moda\, sostenibilidad y gastronomía. Este mercado destaca por reunir productos de tendencia de marcas locales y artesanales\, poniendo un énfasis especial en prácticas responsables y ecológicas. Además de ser un escaparate para diseñadores emergentes y creadores de moda sostenible\, Le Good Market ofrece una experiencia completa con zonas de degustación de productos gourmet y talleres creativos enfocados a familias. \nEl evento contará también con actuaciones musicales en vivo\, que añaden un ambiente festivo y relajado para quienes deseen disfrutar de una jornada de compras consciente en un entorno natural. Esta combinación de moda\, música\, comida y actividades lo convierte en una cita ideal para quienes buscan algo más que un simple mercadillo\, ofreciendo una experiencia única en el corazón de Santa Cruz.
URL:https://farobag.com/evento/le-good-market-en-el-plenilunio-2024-de-santa-cruz/
LOCATION:Parque García Sanabria\, Parque García Sanabria\, Santa Cruz de Tenerife\, Santa Cruz de Tenerife\, 38004
CATEGORIES:Mercadillo
ATTACH;FMTTYPE=image/jpeg:https://farobag.com/wp-content/uploads/2024/10/cartel-le-good-oct-2024.jpg
END:VEVENT
END:VCALENDAR